BEGIN:VCALENDAR
VERSION:2.0
PRODID:-//Stéréophobie - ECPv6.15.20//NONSGML v1.0//EN
CALSCALE:GREGORIAN
METHOD:PUBLISH
X-WR-CALNAME:Stéréophobie
X-ORIGINAL-URL:https://www.stereophobie.fr
X-WR-CALDESC:Évènements pour Stéréophobie
REFRESH-INTERVAL;VALUE=DURATION:PT1H
X-Robots-Tag:noindex
X-PUBLISHED-TTL:PT1H
BEGIN:VTIMEZONE
TZID:UTC
BEGIN:STANDARD
TZOFFSETFROM:+0000
TZOFFSETTO:+0000
TZNAME:UTC
DTSTART:20230101T000000
END:STANDARD
END:VTIMEZONE
BEGIN:VEVENT
DTSTART;TZID=UTC:20241019T180000
DTEND;TZID=UTC:20241020T013000
DTSTAMP:20260422T164417
CREATED:20241020T091237Z
LAST-MODIFIED:20241120T075656Z
UID:3154-1729360800-1729387800@www.stereophobie.fr
SUMMARY:La Rencontre
DESCRIPTION:𝙲𝙻𝙰𝙿 ! 𝙿𝚁𝙴𝙼𝙸𝙴̀𝚁𝙴 !\nLe Grand Duc rencontre Stéréophobie. \nNous vous préparons une soirée que vous n’êtes pas prêts d’oublier.\n Samedi 19 octobre 2024 18 h 00 –  1 h 30\n\n\n 𝙻𝙸𝙽𝙴 𝚄𝙿\n𝑺𝒊𝒂𝒏 : Cumbia\n𝑲𝒓𝒂𝒃𝒆 : Tech house\n𝑱𝒆𝒂𝒏 𝑩𝒐𝒖𝒓𝒊𝒏 : Bass house\n\n𝑵𝒆𝒌𝒏𝒆𝒌 : Techno\n\n𝑨𝒏𝒕𝒐𝒊𝒏𝒆 : Trance prog\n\n𝑷𝒊𝒍𝒂𝒙/𝑶𝒛𝒆𝒇 : Hard techno\n \n\n 𝙱𝙸𝙻𝙻𝙴𝚃𝚃𝙴𝚁𝙸𝙴 :\nEntrée : 8 euros (CB ou espèces)\nVous pouvez déjà réserver vos places en ligne (widget accessible plus bas sur cette page)\nPour les retardataires\, vous pourrez prendre vos entrées directement sur place\, jusqu’à minuit. \nATTENTION\, LE NOMBRE DE PLACES EST LIMITÉ. Alors\, dépêchez-vous !\n\n\n\n 𝙰𝙽𝙸𝙼𝙰𝚃𝙸𝙾𝙽 :\nVenez vous dévergonder au stand du « Slip à roulettes » ! \n  \n 𝙵𝙾𝙾𝙳-𝚃𝚁𝚄𝙲𝙺 :\nGoûtez aux délicieux burgers de l’Ardoise du tatoué ! \n  \n 𝙸𝙽𝙵𝙾𝚂 𝙿𝚁𝙰𝚃𝙸𝚀𝚄𝙴𝚂 :\n\nEntrée gratuite pour les moins de 14 ans\, accompagnés d’un adulte. 🧑‍🧒\nContenants interdits dans l’établissement. \nGobelets consignés. \nPL interdits sur le parking du Grand Duc\, mais possibilité de se garer à Apremont. \nChiens tenus en laisse et autorisés uniquement sur le parking.  de\nStationnement autorisé sur le parking jusqu’à midi\, le dimanche. \n\n\nCrédit artistique : Picaro\n\n\n 
URL:https://www.stereophobie.fr/event/la-rencontre/
LOCATION:Le Grand Duc\, La Thebaultière\, Apremont\, 85220\, France
CATEGORIES:PAST
ATTACH;FMTTYPE=image/webp:https://www.stereophobie.fr/wp-content/uploads/2024/10/la_rencontre.webp
END:VEVENT
END:VCALENDAR