BEGIN:VCALENDAR
VERSION:2.0
PRODID:-//Stéréophobie - ECPv6.15.20//NONSGML v1.0//EN
CALSCALE:GREGORIAN
METHOD:PUBLISH
X-WR-CALNAME:Stéréophobie
X-ORIGINAL-URL:https://www.stereophobie.fr
X-WR-CALDESC:Évènements pour Stéréophobie
REFRESH-INTERVAL;VALUE=DURATION:PT1H
X-Robots-Tag:noindex
X-PUBLISHED-TTL:PT1H
BEGIN:VTIMEZONE
TZID:UTC
BEGIN:STANDARD
TZOFFSETFROM:+0000
TZOFFSETTO:+0000
TZNAME:UTC
DTSTART:20230101T000000
END:STANDARD
END:VTIMEZONE
BEGIN:VEVENT
DTSTART;TZID=UTC:20241207T180000
DTEND;TZID=UTC:20241208T010000
DTSTAMP:20260422T134738
CREATED:20241120T072324Z
LAST-MODIFIED:20241208T122901Z
UID:3377-1733594400-1733619600@www.stereophobie.fr
SUMMARY:Anniversaire de La Cabane A Mousse
DESCRIPTION:Pour l’occasion de son sixième anniversaire 🎂\, La Cabane à Mousse 🍻 & Stéréophobie 🐦‍🔥 vous convient à Challans pour festoyer dignement à la taverne. 🍾 \nℹ️ 𝙸𝙽𝙵𝙾𝚂\n📍 La Cabane à Mousse ➡️ 🗺️ 29 Bd Mourain du Patis\, 85300 Challans\n📆 Samedi 7 décembre 2024\n🎵 Musique de 🕗 18 h 00 à 🕔 1 h 00\n🎟️ Entrée gratuite\n🍔 Food truck \n🎧 𝙻𝙸𝙽𝙴 𝚄𝙿\n𝐌o𝐧o : 𝑙𝑎𝑡𝑖𝑛 ℎ𝑜𝑢𝑠𝑒\n𝐊a𝐬s T𝐰o : 𝑑𝑟𝑢𝑚 𝑎𝑛𝑑 𝑏𝑎𝑠𝑠\n𝐌S𝐇 : 𝑏𝘢𝑠𝘴 𝘩𝑜𝘶𝑠𝘦/𝘣𝑎𝘴𝑠𝘭𝑖𝘯𝑒\n𝐍I𝐊O : 𝘦́𝑙𝘦𝑐𝘵𝑟𝘰 𝑡𝑒𝑐ℎ𝑛𝑜\n𝐋A𝐒O𝐔S𝐒 : ℎ𝑎𝑟𝑑 𝑡𝑒𝑐ℎ𝑛𝑜
URL:https://www.stereophobie.fr/event/anniversaire-de-la-cabane-a-mousse/
LOCATION:La Cabane A Mousse\, 29 Bd Mourain du Patis\, Challans\, 85300\, France
CATEGORIES:PAST
ATTACH;FMTTYPE=image/webp:https://www.stereophobie.fr/wp-content/uploads/2024/11/Fly-la-cabane-2-hd-scaled.webp
END:VEVENT
BEGIN:VEVENT
DTSTART;TZID=UTC:20241221T000000
DTEND;TZID=UTC:20241221T050000
DTSTAMP:20260422T134738
CREATED:20241122T074240Z
LAST-MODIFIED:20250211T180901Z
UID:3402-1734739200-1734757200@www.stereophobie.fr
SUMMARY:La Symbiose
DESCRIPTION:🐦‍🔥 La symbiose 🐦‍🔥\nAlors\, « phénix » ou « phœnix » ? Eh bien\, les deux ! Non\, vous ne rêvez pas !  \nStéréophobie 🐦‍🔥 et le Phœnix Club Discothèque 🐦‍🔥 s’associent pour vous proposer une soirée unique. Une symbiose au goût électronique\, aux sonorités technos et à l’aspect de renouveau. \nNe manquez pas 🐦‍🔥 La symbiose 🐦‍🔥\, car s’il est rare de voir renaître un phénix\, imaginez-vous en voir renaître deux ! \n \n 𝙸𝙽𝙵𝙾𝚂\n \n Le Phœnix Club Discothèque   Maubretière\, 85220 Saint-Révérend Samedi 21 décembre 2024 Musique de  00 h 00 à  5 h 00 Merch et goodies disponibles au stand Stéréoshopping\n Entrée gratuite jusqu’à 1 h\, puis 12 € (1 conso incluse)SORTIE DÉFINITIVE  INTERDIT AUX MINEURS \n Navettes disponibles jusqu’à 20 km aux alentours Parking VL et PL\n \n 𝙻𝙸𝙽𝙴 𝚄𝙿\n \n𝐏𝐈𝐋𝐀𝐗 : 𝗵𝗮𝗿𝗱 𝘁𝗲𝗰𝗵𝗻𝗼𝐍𝐄𝐊𝐍𝐄𝐊 : 𝘁𝗲𝗰𝗵𝗻𝗼 & 𝗽𝗲𝗮𝗸 𝘁𝗶𝗺𝗲 𝗱𝗿𝗶𝘃𝗶𝗻𝗴\n https://on.soundcloud.com/THnem6FSwDYcg2qu7 𝐌𝐒𝐇 : 𝗯𝗮𝘀𝘀𝗹𝗶𝗻𝗲 & 𝗱𝗶𝗿𝘁𝘆\n https://on.soundcloud.com/4GN8zdSaisuzcccN7 𝐉𝐄𝐀𝐍 𝐁𝐎𝐔𝐑𝐈𝐍 : 𝗯𝗮𝘀𝘀 𝗵𝗼𝘂𝘀𝗲\n soundcloud.com/jean-broutin 𝐋𝐀𝐒𝐎𝐔𝐒𝐒 : 𝗵𝗮𝗿𝗱 𝗱𝗮𝗻𝗰𝗲
URL:https://www.stereophobie.fr/event/la-symbiose/
LOCATION:Phoenix Club Discothèque\, Maubretière\, Saint-Révérend\, 85220
CATEGORIES:PAST
ATTACH;FMTTYPE=image/webp:https://www.stereophobie.fr/wp-content/uploads/2024/11/phoenix-7-decembre-1080x1080-1-scaled.webp
END:VEVENT
END:VCALENDAR