BEGIN:VCALENDAR
VERSION:2.0
PRODID:-//Stéréophobie - ECPv6.15.20//NONSGML v1.0//EN
CALSCALE:GREGORIAN
METHOD:PUBLISH
X-ORIGINAL-URL:https://www.stereophobie.fr
X-WR-CALDESC:Évènements pour Stéréophobie
REFRESH-INTERVAL;VALUE=DURATION:PT1H
X-Robots-Tag:noindex
X-PUBLISHED-TTL:PT1H
BEGIN:VTIMEZONE
TZID:UTC
BEGIN:STANDARD
TZOFFSETFROM:+0000
TZOFFSETTO:+0000
TZNAME:UTC
DTSTART:20230101T000000
END:STANDARD
END:VTIMEZONE
BEGIN:VEVENT
DTSTART;TZID=UTC:20241115T190000
DTEND;TZID=UTC:20241116T050000
DTSTAMP:20260422T164902
CREATED:20241022T215311Z
LAST-MODIFIED:20241120T075536Z
UID:3258-1731697200-1731733200@www.stereophobie.fr
SUMMARY:Première
DESCRIPTION:Oyez\, oyez\, les chapelier.ère.s\,\nEn cette froide saison\, notre phénix s’en est alléSe réfugier dans la forêt pour construire un nid douillet.De sa longue route\, exténué\, il décida de s’arrêter pour se reposer.Comptant bientôt les moutons pour s’endormir\, un lapin des buissons vint à surgir.Un lapin avec une montre à gousset\, qui partit aussi vite qu’effaré\, il paraissait.Notre phénix épuisé n’eut même pas le temps de lui proposer un thé.À quelques mètres des bras de Morphée\, le feuillage se remit à bouger.Alors\, comme par magie\, un deuxième lapin en sortit.Puis trois\, puis cinq\, puis huit\, jusqu’à ce que 400 lapins arrivent à la suite.\n\n  \n 𝙸𝙽𝙵𝙾𝚂\n  \n Les 400 lapins14 allée de la croix blanche\, 85670 Saint-Christophe-du-Ligneron\n Vendredi 15 novembre 2024\nOuverture des portes à 19 h 00\n Musique house\, électro\, minimale et progressive de  20 h 00 à  5 h 00\n Entrée gratuite\n Restauration sur place de 19 h 00 à 23 h 00\, burger et frites uniquement.\n\n  \nNᴇ sᴏʏᴇᴢ ᴘᴀs ᴇɴ ʀᴇᴛᴀʀᴅ ! \n\n  \n 𝙻𝙸𝙽𝙴 𝚄𝙿\n  \nG-me : ᏢᎡᎾᏀ ᎻᎾᏬᏚᎬ𝗟𝗮𝘀𝗼𝘂𝘀𝘀 : ᎬᏞᎬᏟᎢᎡᎾ ᏚᎳᏆᏁᏀ𝗖𝗼𝗰𝗼 : ᎬᏞᎬᏟᎢᎡᎾ ᎱᎡᎬᏁᏟᎻ ᎢᎾᏬᏟᎻ𝗔𝗕𝗧 : ᎢᎬᏟᎻᏁᎾ ᏀᎡᎾᎾᏙᎩ𝗡𝗲𝗸𝗻𝗲𝗸 : ᎢᎬᏟᎻᏁᎾ ᏢᎬᎪᏦ ᎢᏆᎷᎬ\n𝗣𝗶𝗹𝗮𝘅 : ᎢᎬᏟᎻᏁᎾ𝗦𝗮𝗰𝗵𝗮 : ᎬᏞᎬᏟᎢᎡᎾ ᎢᎬᏟᎻᏁᎾ𝗠𝘀𝗵 : ᎬᏞᎬᏟᎢᎡᎾ ᎠᏆᎡᎢᎩ\n𝗔𝗻𝘁𝗼𝗶𝗻𝗲 : ᎢᎡᎪᏁᏚ ᏢᎡᎾᏀ\n\nÉvénement Facebook
URL:https://www.stereophobie.fr/event/premiere/
LOCATION:Les 400 Lapins\, 14 Allée de la Croix Blanche\, Saint-Christophe-du-Ligneron\, 85670\, France
CATEGORIES:PAST
ATTACH;FMTTYPE=image/webp:https://www.stereophobie.fr/wp-content/uploads/2024/10/400_lapins.webp
END:VEVENT
END:VCALENDAR