BEGIN:VCALENDAR
VERSION:2.0
PRODID:-//Stéréophobie - ECPv6.15.20//NONSGML v1.0//EN
CALSCALE:GREGORIAN
METHOD:PUBLISH
X-ORIGINAL-URL:https://www.stereophobie.fr
X-WR-CALDESC:Évènements pour Stéréophobie
REFRESH-INTERVAL;VALUE=DURATION:PT1H
X-Robots-Tag:noindex
X-PUBLISHED-TTL:PT1H
BEGIN:VTIMEZONE
TZID:UTC
BEGIN:STANDARD
TZOFFSETFROM:+0000
TZOFFSETTO:+0000
TZNAME:UTC
DTSTART:20240101T000000
END:STANDARD
END:VTIMEZONE
BEGIN:VEVENT
DTSTART;TZID=UTC:20250308T190000
DTEND;TZID=UTC:20250309T050000
DTSTAMP:20260422T110122
CREATED:20250211T180844Z
LAST-MODIFIED:20250309T185950Z
UID:3455-1741460400-1741496400@www.stereophobie.fr
SUMMARY:Les 400 fête ses 1 ans
DESCRIPTION:𝗣𝗥𝗘́𝗦𝗘𝗡𝗧𝗔𝗧𝗜𝗢𝗡 \n Voilà maintenant un an que nous sommes arrivés à 𝑺𝒂𝒊𝒏𝒕-𝑪𝒉𝒓𝒊𝒔𝒕𝒐𝒑𝒉𝒆-𝒅𝒖-𝑳𝒊𝒈𝒏𝒆𝒓𝒐𝒏𝒔. On ne va pas louper l’occasion de bien fêter ça ! \n Pour l’occasion\, nous confions la programmation artistique de notre anniversaire au collectif 𝑺𝑻𝑬𝑹𝑬𝑶𝑷𝑯𝑶𝑩𝑰𝑬. \n On vous prépare une soirée remplie de folie et d’éclectisme sonore ! \n La brasserie « 𝑫𝒆́𝒍𝒊𝒓𝒊𝒖𝒎 » sera aussi de la partie avec une bière spéciale à la pression : « 𝑷𝒂𝒓𝒂𝒏𝒐𝒊𝒂 ». Une grosse surprise vous attend à l’entrée du bar\, ainsi que plein de goodies à choper tout au long de la soirée ! \n  \n 𝐈𝐍𝐅𝐎 𝐏𝐑𝐀𝐓𝐈𝐐𝐔𝐄 \n\n\n\n 9H de son \n 8 Artistes \n Scéno & Show light by Stéréophobie \n Mapping / Laser by Visual Suspect (Arcadium Compagnie) \n Restauration sur place \n 10€ / Gobelet exclusif offert à l’entrée (prévente disponible uniquement au 400 Lapins) \n Sortie non définitive \n Interdit aux mineurs non accompagnés \n Ouverture du lieu : samedi 19H00 \n Début des DJ : 20H00 \n Fin du son : dimanche 05H00 \n  \n 𝐏𝐑𝐎𝐆𝐑𝐀𝐌𝐌𝐀𝐓𝐈𝐎𝐍 \n▷ 𝑺𝑨𝑳𝑶𝑴𝑬 𝑫𝑽 \nDJ Set Tribal Techno\n\n  \n▷ 𝑱𝑨𝑳𝑴 \nDJ Set Global Tech House\n\n  \n▷ 𝑴𝑺𝑯 \nDJ Set HardTechno AcidStéréophobie\n\n  \n▷ 𝑱𝑬𝑭𝑭 \nDJ Set HardTechnoStéréophobie\n\n  \n▷ 𝑵𝑬𝑲𝑵𝑬𝑲 \nDJ Set Techno / Acid TechnoStéréophobie / Komplexe Hive Record\n\n  \n▷ 𝑮-𝑴𝑬 \nProgressive400 Lapins \n  \n▷ 𝑳𝑨𝑺𝑶𝑼𝑺𝑺 \nDJ Set Hard Dance Stéréophobie \n  \n▷ 𝑪𝑶𝑪𝑶 \nDJ Set Electro French TouchStéréophobie
URL:https://www.stereophobie.fr/event/les-400-fete-ses-1-ans/
LOCATION:Les 400 Lapins\, 14 Allée de la Croix Blanche\, Saint-Christophe-du-Ligneron\, 85670\, France
CATEGORIES:PAST
ATTACH;FMTTYPE=image/webp:https://www.stereophobie.fr/wp-content/uploads/2025/02/le-1-an-400-lapins-1.webp
END:VEVENT
END:VCALENDAR