BEGIN:VCALENDAR
VERSION:2.0
PRODID:-//Stéréophobie - ECPv6.15.20//NONSGML v1.0//EN
CALSCALE:GREGORIAN
METHOD:PUBLISH
X-WR-CALNAME:Stéréophobie
X-ORIGINAL-URL:https://www.stereophobie.fr
X-WR-CALDESC:Évènements pour Stéréophobie
REFRESH-INTERVAL;VALUE=DURATION:PT1H
X-Robots-Tag:noindex
X-PUBLISHED-TTL:PT1H
BEGIN:VTIMEZONE
TZID:UTC
BEGIN:STANDARD
TZOFFSETFROM:+0000
TZOFFSETTO:+0000
TZNAME:UTC
DTSTART:20250101T000000
END:STANDARD
END:VTIMEZONE
BEGIN:VEVENT
DTSTART;TZID=UTC:20260307T190000
DTEND;TZID=UTC:20260308T070000
DTSTAMP:20260421T165331
CREATED:20260115T181728Z
LAST-MODIFIED:20260312T085831Z
UID:4926-1772910000-1772953200@www.stereophobie.fr
SUMMARY:Le Zouav' Sans Fin
DESCRIPTION:🦓 ZOUAV’FEST x LA NUIT SANS FIN 🌖 \n👉 Tu veux une merveilleuse nouvelle ? Suite aux belles énergies de nos festivals respectifs\, les deux familles ZOUAV’FEST et LA NUIT SANS FIN unissent leurs forces pour vous offrir une parenthèse inédite de mi-saison ! \n⏭ Samedi 7 mars 2026\, on se donne rendez-vous au Tremplin des Mauges (49) pour 10 heures de partage et de son non-stop ! \n🎵 Dans les oreilles ?! Rap/Punk\, Techno\, Acid\, Groovy\, Bass House… un line-up porté par les artistes des deux crews\, avec l’immense plaisir d’accueillir deux pépites de qualité pour parfaire le tout : HEMINGWAY EFFECT et SOXY (Epsylonn). \n💫 Alors\, êtes vous prêt·e·s pour passer une Nuit Techno Zébrée Sans Fin ?! \n———— HORAIRES ———— \n📅 Samedi 07 mars 2026\n🕗 Ouverture des portes : 19H00\n🕗 Début du line-up : 20H00\n🕡 Fin du line-up : 06H30\n🕖 Fermeture des portes : 07H00 \n———— LIEU ———— \n📍 Le Tremplin des Mauges\n🔜 901 Chemin de la Corderie\, 49110 Montrevault-sur-Èvre\nAngers –> 30min\nCholet –> 30min\nNantes –> 1h00\nRennes –> 1h45 \n———— BILLETTERIE ———— \n⭐ Ticket en prévente : 15\,00 €\n🎫 Ticket sur place : 20\,00 €\n💰 Cash et CB \n———— LINE UP ———— \n💥 GUESTS 💥 \n🎸 HEMINGWAY EFFECT – Rap Punk (Concert)\n \n🔊 SOXY [Epsylonn] – Techno\n \n🦓 ZOUAV’FEST 🦓 \n🔊 LOULE – Techno / Tech-House\n \n🔊 ULTRAVIOLET – Techno Paquebot\n \n🔊 GRAS DU BEAT vs BIG NOISE – Techno Groovy\n \n🔊 LA BÊTISE – Funky Techno\n \n🌖 LA NUIT SANS FIN 🌖 \n🔊 JEAN BOURIN – Bass Music\n \n🔊 NANFER – Techno Groovy \n🔊 MSH – Set surprise \n🔊 NEKNEK – Acid Techno\n \n———— COMMODITÉS ———— \n🥪 Restauration & Bar sur place 🍻\n🪭 Village de créateur·ices\n💧 Eau gratuite disponible à l’intérieur\n💊 Stand de Réduction Des Risques\n🧥 Vestiaire sur place\n💺 Accueil PSH : prends contact avec l’équipe avant ta venue\, qu’on puisse t’accueillir aux petits oignons. \n———— INFOS PRATIQUES ———— \n🧡Soirée de soutien aux collectifs\nEntrée et Sortie libre\nInterdit aux mineurs\n🍻Boissons et alcool interdits dans la salle\n💰 Cash et CB\n🚮 Tri des déchets\nParking VL & PL sur place. Privilégiez le covoiturage.\n🐱 Nos amies les bêtes : on les adore\, mais elles seront mieux au chaud chez des amis. Si elles doivent vraiment venir\, merci de les tenir en laisse et uniquement sur le parking.\n🔊 Pas de son sur le parking\, la musique c’est à l’intérieur que ça se passe !\n💗 Aucun comportement violent\, sexiste\, raciste\, homophobe\, transphobe\, handiphobe ou discriminant ne sera toléré. Prenons soin les un·e·s des autres
URL:https://www.stereophobie.fr/event/le-zouav-sans-fin/
LOCATION:Le tremplin des Mauges\, 901 Chemin de la Corderie\, Montrevault-sur-Èvre\, 49110\, France
CATEGORIES:PAST
ATTACH;FMTTYPE=image/jpeg:https://www.stereophobie.fr/wp-content/uploads/2026/01/zouav-sans-fin-banniere-event-facebook-1920-x-1080-px-JPG.jpg
END:VEVENT
END:VCALENDAR